BEGIN:VCALENDAR
VERSION:2.0
PRODID:-//eventon.com NONSGML v1.0//EN
CALSCALE:GREGORIAN
METHOD:PUBLISH
BEGIN:VEVENT
UID:69e5e8d906ec8
DTSTAMP:20260420T085033Z
DTSTART:20230715T130000Z
DTEND:20230715T150000Z
LOCATION:Life Adventure Centre - Castlewellan The Grange Court Yard\,  The Forest Park\,  Castlewellan\,  County Down\,  BT31 9BU
SUMMARY:Come and Try Mountain Biking
DESCRIPTION:Come and Try Mountain Biking\nhttps://www.onegreatadventure.com
 /events/come-and-try-mountain-biking/
URL:https://www.onegreatadventure.com/events/come-and-try-mountain-biking/
END:VEVENT
END:VCALENDAR