BEGIN:VCALENDAR
VERSION:2.0
PRODID:-//eventon.com NONSGML v1.0//EN
CALSCALE:GREGORIAN
METHOD:PUBLISH
BEGIN:VEVENT
UID:69e5f7e9b7f5b
DTSTAMP:20260420T095449Z
DTSTART:20230712T130000Z
DTEND:20230712T150000Z
LOCATION:Life Adventure Centre - Castlewellan The Grange Court Yard\,  The Forest Park\,  Castlewellan\,  County Down\,  BT31 9BU
SUMMARY:Come and Try Stand Up Paddle Boarding
DESCRIPTION:Come and Try Stand Up Paddle Boarding\nhttps://www.onegreatadve
 nture.com/events/come-and-try-stand-up-paddle-boarding-2/
URL:https://www.onegreatadventure.com/events/come-and-try-stand-up-paddle-boarding-2/
END:VEVENT
END:VCALENDAR