BEGIN:VCALENDAR
VERSION:2.0
PRODID:-//eventon.com NONSGML v1.0//EN
CALSCALE:GREGORIAN
METHOD:PUBLISH
BEGIN:VEVENT
UID:69e5e9fe14584
DTSTAMP:20260420T085526Z
DTSTART:20230714T100000Z
DTEND:20230714T120000Z
LOCATION:Life Adventure Centre - Castlewellan The Grange Court Yard\,  The Forest Park\,  Castlewellan\,  County Down\,  BT31 9BU
SUMMARY:Come and Try Electric Biking
DESCRIPTION:Come and Try Electric Biking\nhttps://www.onegreatadventure.com
 /events/come-and-try-electric-biking-3/
URL:https://www.onegreatadventure.com/events/come-and-try-electric-biking-3/
END:VEVENT
END:VCALENDAR