BEGIN:VCALENDAR
VERSION:2.0
PRODID:-//eventon.com NONSGML v1.0//EN
CALSCALE:GREGORIAN
METHOD:PUBLISH
BEGIN:VEVENT
UID:69e50fb0f22c2
DTSTAMP:20260419T172400Z
DTSTART:20230817T130000Z
DTEND:20230817T150000Z
LOCATION:Life Adventure Centre - Castlewellan The Grange Court Yard\,  The Forest Park\,  Castlewellan\,  County Down\,  BT31 9BU
SUMMARY:Come and Try Kayaking
DESCRIPTION:Come and Try Kayaking\nhttps://www.onegreatadventure.com/events
 /come-and-try-kayaking-2/var/ri-5.l-L1
URL:https://www.onegreatadventure.com/events/come-and-try-kayaking-2/var/ri-5.l-L1
END:VEVENT
END:VCALENDAR