BEGIN:VCALENDAR
VERSION:2.0
PRODID:-//eventon.com NONSGML v1.0//EN
CALSCALE:GREGORIAN
METHOD:PUBLISH
BEGIN:VEVENT
UID:69e5ffa13d233
DTSTAMP:20260420T102745Z
DTSTART:20231110T100000Z
DTEND:20231110T170000Z
LOCATION:Life Adventure Centre - Castlewellan The Grange Court Yard\,  The Forest Park\,  Castlewellan\,  County Down\,  BT31 9BU
SUMMARY:Friends Go Free Fridays
DESCRIPTION:Friends Go Free Fridays\nhttps://www.onegreatadventure.com/even
 ts/friends-go-free-fridays/
URL:https://www.onegreatadventure.com/events/friends-go-free-fridays/
END:VEVENT
END:VCALENDAR