BEGIN:VCALENDAR
VERSION:2.0
PRODID:-//eventon.com NONSGML v1.0//EN
CALSCALE:GREGORIAN
METHOD:PUBLISH
BEGIN:VEVENT
UID:69e889c8a7efa
DTSTAMP:20260422T084144Z
DTSTART:20231112T100000Z
DTEND:20231112T170000Z
LOCATION:Life Adventure Centre - Castlewellan The Grange Court Yard\,  The Forest Park\,  Castlewellan\,  County Down\,  BT31 9BU
SUMMARY:Family Sunday Fundays
DESCRIPTION:Family Sunday Fundays\nhttps://www.onegreatadventure.com/events
 /family-sunday-fundays/
URL:https://www.onegreatadventure.com/events/family-sunday-fundays/
END:VEVENT
END:VCALENDAR